BEGIN:VCALENDAR
VERSION:2.0
PRODID:-//MFACA
CALSCALE:GREGORIAN
METHOD:PUBLISH
X-WR-CALNAME:MFACA
X-ORIGINAL-URL:https://www.metalfinishing.org/product/dot-hazmat-employee-training-2026/
X-WR-CALDESC:DOT Hazmat Employee Training &#8211; March 18
BEGIN:VTIMEZONE
TZID:America/Denver
END:VTIMEZONE
BEGIN:VEVENT
DTSTART;TZID=America/Denver:20260318T130000
DTEND;TZID=America/Denver:20260318T150000
DTSTAMP:20260420T092046
UID:14667-richelle@keep-it-growing.com
SUMMARY:DOT Hazmat Employee Training – March 18
DESCRIPTION:
URL:https://www.metalfinishing.org/product/dot-hazmat-employee-training-2026/
LOCATION:Zoom Call
END:VEVENT
END:VCALENDAR
